BEGIN:VCALENDAR
VERSION:2.0
PRODID:-//Boulton St Marys Church - ECPv6.15.17//NONSGML v1.0//EN
CALSCALE:GREGORIAN
METHOD:PUBLISH
X-WR-CALNAME:Boulton St Marys Church
X-ORIGINAL-URL:https://boulton.dappersquid.co.uk
X-WR-CALDESC:Events for Boulton St Marys Church
REFRESH-INTERVAL;VALUE=DURATION:PT1H
X-Robots-Tag:noindex
X-PUBLISHED-TTL:PT1H
BEGIN:VTIMEZONE
TZID:Europe/London
BEGIN:DAYLIGHT
TZOFFSETFROM:+0000
TZOFFSETTO:+0100
TZNAME:BST
DTSTART:20250330T010000
END:DAYLIGHT
BEGIN:STANDARD
TZOFFSETFROM:+0100
TZOFFSETTO:+0000
TZNAME:GMT
DTSTART:20251026T010000
END:STANDARD
BEGIN:DAYLIGHT
TZOFFSETFROM:+0000
TZOFFSETTO:+0100
TZNAME:BST
DTSTART:20260329T010000
END:DAYLIGHT
BEGIN:STANDARD
TZOFFSETFROM:+0100
TZOFFSETTO:+0000
TZNAME:GMT
DTSTART:20261025T010000
END:STANDARD
BEGIN:DAYLIGHT
TZOFFSETFROM:+0000
TZOFFSETTO:+0100
TZNAME:BST
DTSTART:20270328T010000
END:DAYLIGHT
BEGIN:STANDARD
TZOFFSETFROM:+0100
TZOFFSETTO:+0000
TZNAME:GMT
DTSTART:20271031T010000
END:STANDARD
END:VTIMEZONE
BEGIN:VEVENT
DTSTART;TZID=Europe/London:20260328T100000
DTEND;TZID=Europe/London:20260328T120000
DTSTAMP:20260422T095827
CREATED:20251224T095919Z
LAST-MODIFIED:20260202T113705Z
UID:3841-1774692000-1774699200@boulton.dappersquid.co.uk
SUMMARY:Vestry Coffee Morning
DESCRIPTION:All welcome for chat and refreshments. \nThe vestry team will be on hand to discuss booking a wedding or a baptism.
URL:https://boulton.dappersquid.co.uk/event/vestry-coffee-morning/
LOCATION:Boulton St. Mary’s\, Boulton St. Marys\, Derby\, DE24 0GE\, United Kingdom
ATTACH;FMTTYPE=image/avif:https://boulton.dappersquid.co.uk/wp-content/uploads/2024/07/Paul-The-Church-Warden.avif
END:VEVENT
END:VCALENDAR